BEGIN:VCALENDAR
VERSION:2.0
PRODID:-//eventon.com NONSGML v1.0//EN
CALSCALE:GREGORIAN
METHOD:PUBLISH
BEGIN:VEVENT
UID:69e4e872a7cdd
DTSTAMP:20260419T143634Z
DTSTART:20260523T131500Z
DTEND:20260523T163000Z
LOCATION:With Love from Jesus 421 Chapanoke Rd
SUMMARY:With Love From Jesus (WLFJ) Service Day
DESCRIPTION:Our longtime local outreach partner\,  With Love From Jesus\,  
 provides food\,  clothes and other items to our neighbors in need. There ar
 e so many ways we serve the guests of this ministry from folding\,  sorting
  and restocking to praying and greeting\,  Come serve with us every 4th Sat
 urday each month! [..]\nhttps://htcraleigh.org/events/with-love-from-jesus
 -wlfj-service-day-11/
URL:https://htcraleigh.org/events/with-love-from-jesus-wlfj-service-day-11/
END:VEVENT
END:VCALENDAR