BEGIN:VCALENDAR
VERSION:2.0
PRODID:-//eventon.com NONSGML v1.0//EN
CALSCALE:GREGORIAN
METHOD:PUBLISH
BEGIN:VEVENT
UID:69e9f95acf647
DTSTAMP:20260423T105002Z
DTSTART:20260217T210000Z
DTEND:20260217T220000Z
LOCATION:Courtyard Classroom 100 East Peace Street
SUMMARY:60+ Ministry Study on Hope\,  Heaven\,  and Eternal Life
DESCRIPTION:SIGN UP NOW For the Christian death has been defeated and robbe
 d of its corrupting sting\,  but what does the promise of eternal life mean
 ? Is this promise extended to all who believe or is it restricted somehow t
 o the elect? What is heaven and what can we say about[..]\nhttps://htcralei
 gh.org/events/60-theological-study-with-dr-gil-greggs/
URL:https://htcraleigh.org/events/60-theological-study-with-dr-gil-greggs/
END:VEVENT
END:VCALENDAR