BEGIN:VCALENDAR
VERSION:2.0
PRODID:-//eventon.com NONSGML v1.0//EN
CALSCALE:GREGORIAN
METHOD:PUBLISH
BEGIN:VEVENT
UID:69e9f479dbc82
DTSTAMP:20260423T102913Z
DTSTART:20260502T180000Z
DTEND:20260502T200000Z
LOCATION:Church Courtyard
SUMMARY:60+ Ice Cream Social
DESCRIPTION:SIGN UP NOW Our 60+ ministry team is hosting an ice cream socia
 l on May 2 at 2pm in the church courtyard. Come enjoy Howling Cow ice crea
 m in your finest Kentucky Derby attire and share in great conversation\,  f
 un and fellowship with others in the 60+ community. Let us know[..]\nhttps:
 //htcraleigh.org/events/60-ice-cream-social-kentucky-derby-style-2026/
URL:https://htcraleigh.org/events/60-ice-cream-social-kentucky-derby-style-2026/
END:VEVENT
END:VCALENDAR