BEGIN:VCALENDAR
VERSION:2.0
PRODID:-//eventon.com NONSGML v1.0//EN
CALSCALE:GREGORIAN
METHOD:PUBLISH
BEGIN:VEVENT
UID:69e4cedc2b5e7
DTSTAMP:20260419T124724Z
DTSTART:20260325T220000Z
DTEND:20260326T000000Z
LOCATION:Holy Trinity Anglican Church 100 East Peace Street
SUMMARY:Women's Dinner and Fellowship
DESCRIPTION:SIGN UP NOW From everyday concerns to life-altering fears\,  wo
 rry has a way of creeping into our thoughts and stealing our peace. Join us
  for a meaningful evening of food\,  fellowship\,  and encouragement as Deb
 bie Wilson invites women to exchange anxiety for confidence in God’s fait
 hful character and loving care.[..]\nhttps://htcraleigh.org/events/womens-d
 inner-and-fellowship-september-copy-2/
URL:https://htcraleigh.org/events/womens-dinner-and-fellowship-september-copy-2/
END:VEVENT
END:VCALENDAR