BEGIN:VCALENDAR
VERSION:2.0
PRODID:-//eventon.com NONSGML v1.0//EN
CALSCALE:GREGORIAN
METHOD:PUBLISH
BEGIN:VEVENT
UID:69e61397418ff
DTSTAMP:20260420T115255Z
DTSTART:20260122T000000Z
DTEND:20260122T013000Z
LOCATION:Holy Trinity Anglican Church 100 East Peace Street
SUMMARY:Churchwide Prayer Gathering
DESCRIPTION:Join Us for Churchwide Prayer Gathering – Wednesday\,  Januar
 y 21 at 7pm We’re gathering as a whole church family to pray for the Gosp
 el ministry at Holy Trinity and beyond. As a church\,  we know we’re full
 y dependent on God—and prayer is at the heart of all we do as[..]\nhttps:
 //htcraleigh.org/events/churchwide-prayer/
URL:https://htcraleigh.org/events/churchwide-prayer/
END:VEVENT
END:VCALENDAR