BEGIN:VCALENDAR
VERSION:2.0
PRODID:-//eventon.com NONSGML v1.0//EN
CALSCALE:GREGORIAN
METHOD:PUBLISH
BEGIN:VEVENT
UID:69e4d2e43f016
DTSTAMP:20260419T130436Z
DTSTART:20241123T000000Z
DTEND:20241123T020000Z
LOCATION:Pin Point Raleigh 2201 S Wilmington St Suite 145\,  Raleigh\,  NC 27603
SUMMARY:Young Adult Meetup: Pickleball At Pin Point
DESCRIPTION:Join other young adults (20s &amp; 30s) at Holy Trinity for an 
 outing on Friday\,  Nov. 22. We will gather from 7-9pm at Pin Point Raleigh
 \,  2201 S Wilmington St Suite 145\,  Raleigh\,  NC 27603. We will play pic
 kleball and see what all this new facility has in store! Please[..]\nhttps:
 //htcraleigh.org/events/young-adult-meetup/
URL:https://htcraleigh.org/events/young-adult-meetup/
END:VEVENT
END:VCALENDAR