BEGIN:VCALENDAR
VERSION:2.0
PRODID:-//eventon.com NONSGML v1.0//EN
CALSCALE:GREGORIAN
METHOD:PUBLISH
BEGIN:VEVENT
UID:69eb2f33b2b70
DTSTAMP:20260424T085203Z
DTSTART:20250112T151500Z
DTEND:20250112T155000Z
LOCATION:Trinity House 549 N Blount St.
SUMMARY:Newcomers' Meet & Greet
DESCRIPTION:If you have been coming to Holy Trinity over recent months or w
 eeks and would like to learn more about us\,  please join us for a Newcomer
 s&#8217; Meet and Greet in the Trinity House (across the alley way from the
  church) at 10:15am on January 12. We look forward to[..]\nhttps://htcralei
 gh.org/events/newcomers-meet-greet-copy/
URL:https://htcraleigh.org/events/newcomers-meet-greet-copy/
END:VEVENT
END:VCALENDAR