BEGIN:VCALENDAR
VERSION:2.0
PRODID:-//eventon.com NONSGML v1.0//EN
CALSCALE:GREGORIAN
METHOD:PUBLISH
BEGIN:VEVENT
UID:69e638f3dfb68
DTSTAMP:20260420T143219Z
DTSTART:20240526T213000Z
DTEND:20240526T223000Z
LOCATION:Holy Trinity Anglican Church 100 East Peace Street
SUMMARY:Sunday Evening Worship
DESCRIPTION:Join us for our evening worship service each week at 5:30pm. Ou
 r evening service is different from the morning services\,  yet remains dis
 tinctly Anglican. This service is a simple and low-key opportunity for all 
 people to hear God’s Word and worship together. Those who attend can expe
 ct biblical teaching\,  vibrant[..]\nhttps://htcraleigh.org/events/sunday-e
 vening-worship-3/
URL:https://htcraleigh.org/events/sunday-evening-worship-3/
END:VEVENT
END:VCALENDAR