BEGIN:VCALENDAR
VERSION:2.0
PRODID:-//eventon.com NONSGML v1.0//EN
CALSCALE:GREGORIAN
METHOD:PUBLISH
BEGIN:VEVENT
UID:69e6134ea9aea
DTSTAMP:20260420T115142Z
DTSTART:20230119T190000Z
DTEND:20230119T203000Z
LOCATION:Mary Dee Smith 420 Drummond Drive
SUMMARY:Sharing Life Women’s Evening Event: Burnout
DESCRIPTION:Ready to meet other women from Holy Trinity and enjoy a casual 
 evening of conversation\,  refreshments and a panel discussion on the topic
  of burnout? Come learn and share! We are meeting at Mary Dee Smith’s hom
 e\,  420 Drummond Drive\,  Raleigh. &nbsp; RSVP\,  please!\nhttps://htcrale
 igh.org/events/sharing-life-womens-evening-event-burnout/
URL:https://htcraleigh.org/events/sharing-life-womens-evening-event-burnout/
END:VEVENT
END:VCALENDAR