BEGIN:VCALENDAR
VERSION:2.0
PRODID:-//eventon.com NONSGML v1.0//EN
CALSCALE:GREGORIAN
METHOD:PUBLISH
BEGIN:VEVENT
UID:69e611b648085
DTSTAMP:20260420T114454Z
DTSTART:20221104T170000Z
DTEND:20221106T150000Z
LOCATION:Trinity Center 618 Salter Path Rd.
SUMMARY:Fall Beach Retreat
DESCRIPTION:All middle and high school students (6th-12th grade) are invite
 d to join us for our Fall Beach Retreat! We’ll head down to Pine Knoll Sh
 ores for a weekend of worship\,  teaching\,  small group time\,  and fun on
  the beach. Click here for more specific details about the retreat. Click 
 here to[..]\nhttps://htcraleigh.org/events/fall-beach-retreat-3/
URL:https://htcraleigh.org/events/fall-beach-retreat-3/
END:VEVENT
END:VCALENDAR