BEGIN:VCALENDAR
VERSION:2.0
PRODID:-//eventon.com NONSGML v1.0//EN
CALSCALE:GREGORIAN
METHOD:PUBLISH
BEGIN:VEVENT
UID:69e4e99f9b9f1
DTSTAMP:20260419T144135Z
DTSTART:20220429T183000Z
DTEND:20220429T203000Z
LOCATION:The Struiks 316 Meeting House Circle
SUMMARY:Thanking God in Friendship (TGIF)
DESCRIPTION:Edie and Henk Struik are graciously hosting our April TGIF dinn
 er at 6:30pm! We hope you’ll join us for a casual dinner and fellowship. 
 Open to all! RSVP to Edie at 919-270-7050 – and be sure to ask what you 
 can bring! Address: 316 Meeting House Circle\,  Raleigh &nbsp;\nhttps://htc
 raleigh.org/events/thanking-god-in-friendship-tgif-7/
URL:https://htcraleigh.org/events/thanking-god-in-friendship-tgif-7/
END:VEVENT
END:VCALENDAR