BEGIN:VCALENDAR
VERSION:2.0
PRODID:-//eventon.com NONSGML v1.0//EN
CALSCALE:GREGORIAN
METHOD:PUBLISH
BEGIN:VEVENT
UID:69e614a8ad350
DTSTAMP:20260420T115728Z
DTSTART:20211103T093000Z
DTEND:20211103T203000Z
LOCATION:
SUMMARY:Women of the Word (WOW) Bible Study
DESCRIPTION:WOW is meeting at all our regularly scheduled times! Please che
 ck with your leader if you have any questions. If you are interested in joi
 ning WOW\,  please visit our Trinity Women&#8217;s page for all the details
  or reach out to our WOW administrator Margaret Wooten to register. We&#821
 7;d love to[..]\nhttps://htcraleigh.org/events/women-of-the-word-wow-bible-
 study-3/
URL:https://htcraleigh.org/events/women-of-the-word-wow-bible-study-3/
END:VEVENT
END:VCALENDAR