BEGIN:VCALENDAR
VERSION:2.0
PRODID:-//eventon.com NONSGML v1.0//EN
CALSCALE:GREGORIAN
METHOD:PUBLISH
BEGIN:VEVENT
UID:69e6149906965
DTSTAMP:20260420T115713Z
DTSTART:20210531T080000Z
DTEND:20210531T170000Z
LOCATION:
SUMMARY:Office Closed on Memorial Day
DESCRIPTION:In observance of Memorial Day\,  the church office is closed.\n
 https://htcraleigh.org/events/office-closed-on-memorial-day/
URL:https://htcraleigh.org/events/office-closed-on-memorial-day/
END:VEVENT
END:VCALENDAR