BEGIN:VCALENDAR
VERSION:2.0
PRODID:-//eventon.com NONSGML v1.0//EN
CALSCALE:GREGORIAN
METHOD:PUBLISH
BEGIN:VEVENT
UID:69e5fca450cb6
DTSTAMP:20260420T101500Z
DTSTART:20201227T084500Z
DTEND:20201227T120000Z
LOCATION:Holy Trinity Anglican Church 100 East Peace Street
SUMMARY:In-Person and Virtual Morning Prayer Worship Service for the Whole Family
DESCRIPTION:Join us for Morning Prayer in person at 8:45am or 11am by signi
 ng up in advance on the Worship webpage. This will help us keep the environ
 ment safe and maintain our maximum capacity of 100 people per service. Four
  reminders: 1) our nursery wing is open for 10 walkers through[..]\nhttps:/
 /htcraleigh.org/events/in-person-and-virtual-morning-prayer-worship-service
 -for-the-whole-family/
URL:https://htcraleigh.org/events/in-person-and-virtual-morning-prayer-worship-service-for-the-whole-family/
END:VEVENT
END:VCALENDAR