BEGIN:VCALENDAR
VERSION:2.0
PRODID:-//eventon.com NONSGML v1.0//EN
CALSCALE:GREGORIAN
METHOD:PUBLISH
BEGIN:VEVENT
UID:69e4d1e5ae0a5
DTSTAMP:20260419T130021Z
DTSTART:20201102T060000Z
DTEND:20201102T180000Z
LOCATION:
SUMMARY:Day of Prayer and Fasting
DESCRIPTION:Please join us for a day of prayer and fasting on Nov. 2 before
  local\,  state and national elections. Sign up for one of the ten slots in
  each 30-minute segment (6am-6pm) and then download the Prayer Vigil GuideĀ
  to use in your time of prayer. Our goal for this time[..]\nhttps://htcrale
 igh.org/events/day-of-prayer-and-fasting/
URL:https://htcraleigh.org/events/day-of-prayer-and-fasting/
END:VEVENT
END:VCALENDAR