BEGIN:VCALENDAR
VERSION:2.0
PRODID:-//eventon.com NONSGML v1.0//EN
CALSCALE:GREGORIAN
METHOD:PUBLISH
BEGIN:VEVENT
UID:69e602b71c52d
DTSTAMP:20260420T104055Z
DTSTART:20200827T190000Z
DTEND:20200827T235000Z
LOCATION:Holy Trinity Anglican Church 100 East Peace Street
SUMMARY:Trinity Students Parent Fall Kickoff Meeting
DESCRIPTION:Join us Thursday\,  Aug. 27 at 7pm on Zoom for our parent meeti
 ng! During this meeting\,  we&#8217;ll get to know one another\,  talk abou
 t our fall events\,  answer any questions and address any !concerns you may
  have. Please let Matt Desmarais know if you will be attending and to get[.
 .]\nhttps://htcraleigh.org/events/trinity-students-parent-fall-kickoff-meet
 ing-2/
URL:https://htcraleigh.org/events/trinity-students-parent-fall-kickoff-meeting-2/
END:VEVENT
END:VCALENDAR