BEGIN:VCALENDAR
VERSION:2.0
PRODID:-//eventon.com NONSGML v1.0//EN
CALSCALE:GREGORIAN
METHOD:PUBLISH
BEGIN:VEVENT
UID:69e628e80d0a4
DTSTAMP:20260420T132352Z
DTSTART:20200719T084500Z
DTEND:20200719T120000Z
LOCATION:Holy Trinity Anglican Church 100 East Peace Street
SUMMARY:In-Person Morning Prayer Worship Service
DESCRIPTION:Join us for Morning Prayer at either 8:45am or 11am by signing 
 up in advance. This will help us keep the environment safe and maintain our
  maximum capacity of 100 people per service. Just click on the service of y
 our choice below! Two reminders: children will remain with their parents[..
 ]\nhttps://htcraleigh.org/events/in-person-morning-prayer-worship-service/
URL:https://htcraleigh.org/events/in-person-morning-prayer-worship-service/
END:VEVENT
END:VCALENDAR