BEGIN:VCALENDAR
VERSION:2.0
PRODID:-//eventon.com NONSGML v1.0//EN
CALSCALE:GREGORIAN
METHOD:PUBLISH
BEGIN:VEVENT
UID:69e4d1fa46cb2
DTSTAMP:20260419T130042Z
DTSTART:20200219T094500Z
DTEND:20200219T114500Z
LOCATION:Holy Trinity Anglican Church 100 East Peace Street
SUMMARY:Women of the Word (WOW)
DESCRIPTION:We will be studying Esther Lesson 6: A Rollercoaster Ride on Fe
 bruary 19. Childcare is available for children 4 and under. &nbsp;\nhttps:/
 /htcraleigh.org/events/women-of-the-word-wow-15/
URL:https://htcraleigh.org/events/women-of-the-word-wow-15/
END:VEVENT
END:VCALENDAR